BEGIN:VCALENDAR
VERSION:2.0
PRODID:-//Welcome - ECPv6.15.20//NONSGML v1.0//EN
CALSCALE:GREGORIAN
METHOD:PUBLISH
X-ORIGINAL-URL:https://doubleedgetheatre.org
X-WR-CALDESC:Events for Welcome
REFRESH-INTERVAL;VALUE=DURATION:PT1H
X-Robots-Tag:noindex
X-PUBLISHED-TTL:PT1H
BEGIN:VTIMEZONE
TZID:America/New_York
BEGIN:DAYLIGHT
TZOFFSETFROM:-0500
TZOFFSETTO:-0400
TZNAME:EDT
DTSTART:20220313T070000
END:DAYLIGHT
BEGIN:STANDARD
TZOFFSETFROM:-0400
TZOFFSETTO:-0500
TZNAME:EST
DTSTART:20221106T060000
END:STANDARD
BEGIN:DAYLIGHT
TZOFFSETFROM:-0500
TZOFFSETTO:-0400
TZNAME:EDT
DTSTART:20230312T070000
END:DAYLIGHT
BEGIN:STANDARD
TZOFFSETFROM:-0400
TZOFFSETTO:-0500
TZNAME:EST
DTSTART:20231105T060000
END:STANDARD
BEGIN:DAYLIGHT
TZOFFSETFROM:-0500
TZOFFSETTO:-0400
TZNAME:EDT
DTSTART:20240310T070000
END:DAYLIGHT
BEGIN:STANDARD
TZOFFSETFROM:-0400
TZOFFSETTO:-0500
TZNAME:EST
DTSTART:20241103T060000
END:STANDARD
BEGIN:DAYLIGHT
TZOFFSETFROM:-0500
TZOFFSETTO:-0400
TZNAME:EDT
DTSTART:20250309T070000
END:DAYLIGHT
BEGIN:STANDARD
TZOFFSETFROM:-0400
TZOFFSETTO:-0500
TZNAME:EST
DTSTART:20251102T060000
END:STANDARD
END:VTIMEZONE
BEGIN:VTIMEZONE
TZID:America/Halifax
BEGIN:DAYLIGHT
TZOFFSETFROM:-0400
TZOFFSETTO:-0300
TZNAME:ADT
DTSTART:20220313T060000
END:DAYLIGHT
BEGIN:STANDARD
TZOFFSETFROM:-0300
TZOFFSETTO:-0400
TZNAME:AST
DTSTART:20221106T050000
END:STANDARD
BEGIN:DAYLIGHT
TZOFFSETFROM:-0400
TZOFFSETTO:-0300
TZNAME:ADT
DTSTART:20230312T060000
END:DAYLIGHT
BEGIN:STANDARD
TZOFFSETFROM:-0300
TZOFFSETTO:-0400
TZNAME:AST
DTSTART:20231105T050000
END:STANDARD
BEGIN:DAYLIGHT
TZOFFSETFROM:-0400
TZOFFSETTO:-0300
TZNAME:ADT
DTSTART:20240310T060000
END:DAYLIGHT
BEGIN:STANDARD
TZOFFSETFROM:-0300
TZOFFSETTO:-0400
TZNAME:AST
DTSTART:20241103T050000
END:STANDARD
END:VTIMEZONE
BEGIN:VTIMEZONE
TZID:UTC
BEGIN:STANDARD
TZOFFSETFROM:+0000
TZOFFSETTO:+0000
TZNAME:UTC
DTSTART:20200101T000000
END:STANDARD
END:VTIMEZONE
BEGIN:VTIMEZONE
TZID:America/New_York
BEGIN:DAYLIGHT
TZOFFSETFROM:-0500
TZOFFSETTO:-0400
TZNAME:EDT
DTSTART:20210314T070000
END:DAYLIGHT
BEGIN:STANDARD
TZOFFSETFROM:-0400
TZOFFSETTO:-0500
TZNAME:EST
DTSTART:20211107T060000
END:STANDARD
BEGIN:DAYLIGHT
TZOFFSETFROM:-0500
TZOFFSETTO:-0400
TZNAME:EDT
DTSTART:20220313T070000
END:DAYLIGHT
BEGIN:STANDARD
TZOFFSETFROM:-0400
TZOFFSETTO:-0500
TZNAME:EST
DTSTART:20221106T060000
END:STANDARD
BEGIN:DAYLIGHT
TZOFFSETFROM:-0500
TZOFFSETTO:-0400
TZNAME:EDT
DTSTART:20230312T070000
END:DAYLIGHT
BEGIN:STANDARD
TZOFFSETFROM:-0400
TZOFFSETTO:-0500
TZNAME:EST
DTSTART:20231105T060000
END:STANDARD
END:VTIMEZONE
BEGIN:VEVENT
DTSTART;TZID=America/New_York:20240310T130000
DTEND;TZID=America/New_York:20240310T150000
DTSTAMP:20260426T040311
CREATED:20240116T164912Z
LAST-MODIFIED:20240310T154245Z
UID:6733-1710075600-1710082800@doubleedgetheatre.org
SUMMARY:The Living Presence of Our History Part X
DESCRIPTION:This panel of Indigenous leaders and scholars will delve into the intricacies and complications regarding Native appropriation. The panel will explore how these narratives affect Native and non-Native communities today and the possible steps to educate\, decolonize\, and make changes using an Indigenous lens. \nThe Living Presence of Our History is a series co-produced by Ohketeau Cultural Center and Double Edge Theatre with funding from Jacob’s Pillow and Mass Humanities. This series has brought together panels of Indigenous leaders\, scholars\, and allies to delve into the many intricate and complicated contemporary issues facing Indigenous peoples today. We lift and center Indigenous voices and offer Native-led solutions and action items for the listener. \nThis event is curated and moderated by Rhonda Anderson\, Ohketeau Founder and Co-Director. \nPanelists include:\nLawrence Bacca\, Pawnee\,\nJulie Dye\, Pokagon Band Potawatomi Nation\nVincent Schilling\, Saint Regis Mohawk Tribe\nTomantha Sylvester\, Sault St. Marie Ojibwe\nBrittney Walley\, Nipmuc\nAdrienne Keene\, Cherokee Nation \nPlease write to tickets@doubleedgetheatre.org for both in-person and livestream information.
URL:https://doubleedgetheatre.org/event/the-living-presence-of-our-history-part-x/
LOCATION:The Farm\, 948 Conway Road\, Ashfield\, MA\, MA 01330\, United States
CATEGORIES:Conversations,Home
ATTACH;FMTTYPE=image/jpeg:https://doubleedgetheatre.org/wp-content/uploads/2024/01/LIVING-PRESENCE-OF-OUR-HISTORY-X.jpg
END:VEVENT
BEGIN:VEVENT
DTSTART;TZID=America/Halifax:20231015T130000
DTEND;TZID=America/Halifax:20231015T150000
DTSTAMP:20260426T040311
CREATED:20231012T154711Z
LAST-MODIFIED:20231012T165610Z
UID:6520-1697374800-1697382000@doubleedgetheatre.org
SUMMARY:The Living Presence of Our History Part IX
DESCRIPTION:The Living Presence of Our History Part IX: A Conversation with Indigenous Screenwriters Regarding Representation on Screen\nOctober 15\n1 PM – 3 PM\nCo-presented with the Ohketeau Cultural Center\, a panel of Indigenous screenwriters and producers will discuss the importance of telling Indigenous stories on screen. The panelists will explore how these narratives affect Native and non-Native communities today and the possible steps to educate\, decolonize\, and make changes using an Indigenous lens. The event will be held in person at Double Edge Theatre and will also be livestreamed via HowlRound.\n\n\nLivestream here: https://howlround.com/happenings/living-presence-our-history-part-ix \nPlease write to tickets@doubleedgetheatre.org for in-person information. \nThis project is supported in part by the National Endowment for the Arts.
URL:https://doubleedgetheatre.org/event/the-living-presence-of-our-history-part-ix/
LOCATION:The Farm\, 948 Conway Road\, Ashfield\, MA\, MA 01330\, United States
CATEGORIES:Conversations
ATTACH;FMTTYPE=image/jpeg:https://doubleedgetheatre.org/wp-content/uploads/2023/09/LPVIII-banner-final-scaled.jpg
END:VEVENT
BEGIN:VEVENT
DTSTART;TZID=America/New_York:20230326T130000
DTEND;TZID=America/New_York:20230326T150000
DTSTAMP:20260426T040311
CREATED:20230321T160251Z
LAST-MODIFIED:20230321T160334Z
UID:6085-1679835600-1679842800@doubleedgetheatre.org
SUMMARY:The Living Presence of Our History: Part VIII
DESCRIPTION:The Living Presence of Our History: Part VIII\n A Conversation with Indigenous Authors Regarding Representation in Literature\nSunday\, March 26 2023 at 1pm\n\n\n\n\n\nThe Living Presence forum continues conversations with Indigenous community members and allies regarding issues we face today as Native peoples. A panel of Indigenous scholars and local authors will discuss the importance of our stories in literature. We will explore how these narratives affect Native and non-Native communities today and the possible steps to educate\, decolonize\, and make changes using an Indigenous lens. \nPanelists \nDr. Debbie Reese\, Nambe Pueblo\nYvonne Tiger (ABD)\, Creek Seminole Cherokee\nProfessor Eric Gansworth\, Onondaga\nMorgan Talty\, Penobscot\nChristopher Newell\, Passamaquoddy\nLarry SpottedCrow Mann\, Nipmuc\nLivestreaming on the global\, commons-based\, peer-produced HowlRound TV network at howlround.tv on Sunday 26 March 2023 at 10 a.m. PDT (San Francisco\, UTC -7) / 12 p.m. CDT (UTC -5) / 1 p.m. EDT (Boston\, UTC -4). \nLink to livestream: https://howlround.com/happenings/living-presence-our-history-part-viii
URL:https://doubleedgetheatre.org/event/the-living-presence-of-our-history-part-viii-a-conversation-with-indigenous-authors-regarding-representation-in-literature/
LOCATION:MA
CATEGORIES:Conversations
ATTACH;FMTTYPE=image/png:https://doubleedgetheatre.org/wp-content/uploads/2023/03/IMG_6849.png
END:VEVENT
BEGIN:VEVENT
DTSTART;TZID=UTC:20221113T130000
DTEND;TZID=UTC:20221113T150000
DTSTAMP:20260426T040311
CREATED:20221110T190552Z
LAST-MODIFIED:20221110T190552Z
UID:5678-1668344400-1668351600@doubleedgetheatre.org
SUMMARY:The Living Presence of Our History Part VII
DESCRIPTION:The Living Presence of Our History Part VII\nNovember 13 – 1 pm – 3 pm\nThe Living Presence of Our History Part VII: A Conversation with Indigenous Playwrights\, Theater-makers\, and Storytellers on the Importance of Telling Our Stories.This conversation will have a panel with Native American scholars\, playwrights\, and actors on the importance of seeing our narratives on stage and screen.\nThe event will be live-streamed and in-person. \n\n\n\n\n\nPlease contact info@ohketeau.org or tickets@doubleedgetheatre.org to receive live-stream information and/or request for limited seating.\n\n\n\n\n\n\n\n\n 
URL:https://doubleedgetheatre.org/event/the-living-presence-of-our-history-part-vii/
LOCATION:The Farm\, 948 Conway Road\, Ashfield\, MA\, MA 01330\, United States
CATEGORIES:Conversations
ATTACH;FMTTYPE=image/jpeg:https://doubleedgetheatre.org/wp-content/uploads/2022/11/313441279_496737399166872_1551429273458725742_n.jpg
END:VEVENT
BEGIN:VEVENT
DTSTART;TZID=UTC:20221012T180000
DTEND;TZID=UTC:20221012T200000
DTSTAMP:20260426T040311
CREATED:20221005T155551Z
LAST-MODIFIED:20221005T155625Z
UID:5607-1665597600-1665604800@doubleedgetheatre.org
SUMMARY:Hispanic Heritage Month:  My Voice! An Evening with Carlos Uriona
DESCRIPTION:Hispanic Heritage Month:\nMy Voice! An Evening with Carlos Uriona\nOctober 12 at 6 pm\nPresented by Bunker Hill Community College \nPolitical violence in Argentina\, compelling storytelling and Art Justice with Double Edge Theatre\, and beyond. Join Ensemble member and Co-Artistic Director of Double Edge Theatre\, Carlos Uriona\, as he discusses his lived experiences with the political turmoil and terrorism of Argentina\, both historically and at present. The evening will include his performance excerpt The Mothers of the Plaza\, or the Eruption of the Invisible from Double Edge’s Howling at the Moon (debut June 2021)—a recent theatrical experience that explores mythic tales and ancestral visions. \nOnline Zoom Link Here: https://us02web.zoom.us/j/84755738156?pwd=am41K1lZRzIzZkxWWTAxbCt2WFdIUT09&eType=EmailBlastContent&eId=5d32bf6c-da54-40cb-860b-ddf46ef8a935#success
URL:https://doubleedgetheatre.org/event/hispanic-heritage-month-my-voice-an-evening-with-carlos-uriona/
LOCATION:MA
CATEGORIES:Conversations
ATTACH;FMTTYPE=image/jpeg:https://doubleedgetheatre.org/wp-content/uploads/2022/10/51282047836_87defb396b_o-1-scaled.jpg
END:VEVENT
BEGIN:VEVENT
DTSTART;TZID=UTC:20220807T130000
DTEND;TZID=UTC:20220807T150000
DTSTAMP:20260426T040311
CREATED:20220628T162031Z
LAST-MODIFIED:20220706T134243Z
UID:5478-1659877200-1659884400@doubleedgetheatre.org
SUMMARY:The Radical & The Revolutionary - A Conversation
DESCRIPTION:The Radical & The Revolutionary – A Conversation\nSun\, Aug 7\, 2022\, 1:00 PM \nOn August 7\, Stacy Klein and Baraka Sele will initiate The Radical and The Revolutionary\, a series of dialogues on their experiences in theatre and life. \nThis conversation will be followed by a meal in honor of DE’s fortieth-anniversary celebration. \n  \nBuy Tickets Here: https://www.eventbrite.com/e/rites-finale-tickets-290681384847
URL:https://doubleedgetheatre.org/event/the-radical-the-revolutionary-a-conversation/
LOCATION:The Farm\, 948 Conway Road\, Ashfield\, MA\, MA 01330\, United States
CATEGORIES:Conversations
ATTACH;FMTTYPE=image/jpeg:https://doubleedgetheatre.org/wp-content/uploads/2022/06/the-radical-and-the-revolutionary_1-1.jpg
END:VEVENT
BEGIN:VEVENT
DTSTART;TZID=America/New_York:20220327T130000
DTEND;TZID=America/New_York:20220328T150000
DTSTAMP:20260426T040311
CREATED:20211119T134331Z
LAST-MODIFIED:20220327T162132Z
UID:4987-1648386000-1648479600@doubleedgetheatre.org
SUMMARY:The Living Presence of Our History Part VI
DESCRIPTION:Co-produced by Double Edge and the Ohketeau Cultural Center \nA Conversation on Continued Oppression and Erasure Through Public Plaques\, Memorials\, and Statuary\nA panel of scholars and local Indigenous people to discuss how the colonizer lens on our local history in public spaces can further the extinction narrative. We will explore how these narratives affect Native and non-Native communities today and the possible steps to educate\, decolonize\, and make changes using an Indigenous lens. \nThe event will be live-streamed on HowlRound TV\, Double Edge’s Facebook as well as Ohketeau’s Facebook page.\nWatch prior broadcasts here.
URL:https://doubleedgetheatre.org/event/the-living-presence-of-our-history-part-vi/
LOCATION:The Farm\, 948 Conway Road\, Ashfield\, MA\, MA 01330\, United States
CATEGORIES:Conversations
ATTACH;FMTTYPE=image/jpeg:https://doubleedgetheatre.org/wp-content/uploads/2021/11/untitled-4-1.jpg
END:VEVENT
BEGIN:VEVENT
DTSTART;TZID=UTC:20210919T130000
DTEND;TZID=UTC:20210919T150000
DTSTAMP:20260426T040311
CREATED:20210903T201110Z
LAST-MODIFIED:20210908T153123Z
UID:4718-1632056400-1632063600@doubleedgetheatre.org
SUMMARY:The Living Presence of Our History - Pt. V
DESCRIPTION:Co-produced by Double Edge and the Ohketeau Cultural Center\nA Conversation with Indigenous Artists Making Art for Social Change\nThis Living Presence Conversation will feature an incredible panel of Indigenous artists and allies creating art to bring contemporariness\, awareness\, and recognition to current struggles in Native communities across Turtle Island.\nThe event will be livestreamed on HowlRound TV\, Double Edge’s Facebook as well as Ohketeau’s Facebook page. \nWatch prior broadcasts here: PART I; PART II; PART III; PART IV
URL:https://doubleedgetheatre.org/event/the-living-presence-of-our-history-pt-v/
LOCATION:MA
CATEGORIES:Conversations
ATTACH;FMTTYPE=image/jpeg:https://doubleedgetheatre.org/wp-content/uploads/2021/09/Image-from-iOS.jpg
END:VEVENT
END:VCALENDAR