BEGIN:VCALENDAR
VERSION:2.0
PRODID:-//Welcome - ECPv6.15.20//NONSGML v1.0//EN
CALSCALE:GREGORIAN
METHOD:PUBLISH
X-ORIGINAL-URL:https://doubleedgetheatre.org
X-WR-CALDESC:Events for Welcome
REFRESH-INTERVAL;VALUE=DURATION:PT1H
X-Robots-Tag:noindex
X-PUBLISHED-TTL:PT1H
BEGIN:VTIMEZONE
TZID:America/Halifax
BEGIN:DAYLIGHT
TZOFFSETFROM:-0400
TZOFFSETTO:-0300
TZNAME:ADT
DTSTART:20220313T060000
END:DAYLIGHT
BEGIN:STANDARD
TZOFFSETFROM:-0300
TZOFFSETTO:-0400
TZNAME:AST
DTSTART:20221106T050000
END:STANDARD
BEGIN:DAYLIGHT
TZOFFSETFROM:-0400
TZOFFSETTO:-0300
TZNAME:ADT
DTSTART:20230312T060000
END:DAYLIGHT
BEGIN:STANDARD
TZOFFSETFROM:-0300
TZOFFSETTO:-0400
TZNAME:AST
DTSTART:20231105T050000
END:STANDARD
BEGIN:DAYLIGHT
TZOFFSETFROM:-0400
TZOFFSETTO:-0300
TZNAME:ADT
DTSTART:20240310T060000
END:DAYLIGHT
BEGIN:STANDARD
TZOFFSETFROM:-0300
TZOFFSETTO:-0400
TZNAME:AST
DTSTART:20241103T050000
END:STANDARD
BEGIN:DAYLIGHT
TZOFFSETFROM:-0400
TZOFFSETTO:-0300
TZNAME:ADT
DTSTART:20250309T060000
END:DAYLIGHT
BEGIN:STANDARD
TZOFFSETFROM:-0300
TZOFFSETTO:-0400
TZNAME:AST
DTSTART:20251102T050000
END:STANDARD
END:VTIMEZONE
BEGIN:VTIMEZONE
TZID:UTC
BEGIN:STANDARD
TZOFFSETFROM:+0000
TZOFFSETTO:+0000
TZNAME:UTC
DTSTART:20200101T000000
END:STANDARD
END:VTIMEZONE
BEGIN:VEVENT
DTSTART;TZID=America/Halifax:20241027T130000
DTEND;TZID=America/Halifax:20241027T160000
DTSTAMP:20260425T214222
CREATED:20240510T171029Z
LAST-MODIFIED:20241004T171138Z
UID:6905-1730034000-1730044800@doubleedgetheatre.org
SUMMARY:Community Day
DESCRIPTION:October 27\, 2024\n1 PM – 4 PM \nThis event is co-presented with our partner organization Ohketeau.\nExperience both Ohketeau and Double Edge by flying on bungees\, learning about Algonquin traditional food ways\, singing\, playing music\, dancing\, making corn husk dolls\, and much more! \nFor more information or if you have questions\, please call our office at: (413) 628-0277
URL:https://doubleedgetheatre.org/event/community-day-3/
LOCATION:The Farm\, 948 Conway Road\, Ashfield\, MA\, MA 01330\, United States
CATEGORIES:Community Day,Programs
ATTACH;FMTTYPE=image/jpeg:https://doubleedgetheatre.org/wp-content/uploads/2024/03/2023_Community-Day_Photo-by-Travis-Coe-10-scaled.jpg
END:VEVENT
BEGIN:VEVENT
DTSTART;TZID=America/Halifax:20240505T130000
DTEND;TZID=America/Halifax:20240505T160000
DTSTAMP:20260425T214222
CREATED:20240116T164311Z
LAST-MODIFIED:20240116T164311Z
UID:6609-1714914000-1714924800@doubleedgetheatre.org
SUMMARY:Community Day
DESCRIPTION:May 5\, 2024\n1 PM – 4 PM \nWe welcome you to this free event where you can fly on bungees\, sing and play music\, and learn about what is happening at Double Edge! \nFor more information or if you have questions\, please call our office at: (413) 628-0277
URL:https://doubleedgetheatre.org/event/community-day-2/
LOCATION:The Farm\, 948 Conway Road\, Ashfield\, MA\, MA 01330\, United States
CATEGORIES:Programs
ATTACH;FMTTYPE=image/jpeg:https://doubleedgetheatre.org/wp-content/uploads/2023/12/event-scaled.jpeg
END:VEVENT
BEGIN:VEVENT
DTSTART;TZID=America/Halifax:20231119T130000
DTEND;TZID=America/Halifax:20231119T160000
DTSTAMP:20260425T214222
CREATED:20231017T180439Z
LAST-MODIFIED:20231017T180439Z
UID:6602-1700398800-1700409600@doubleedgetheatre.org
SUMMARY:Community Day
DESCRIPTION:Community Day\nNovember 19\, 2023\n1 PM – 4 PM\nWe welcome you to this free event where you can fly on bungees\, sing and play music\, and learn about what is happening at Double Edge! \nFor more information or if you have questions\,\nplease call our office at: (413) 628-0277
URL:https://doubleedgetheatre.org/event/community-day/
LOCATION:The Farm\, 948 Conway Road\, Ashfield\, MA\, MA 01330\, United States
CATEGORIES:Programs
ATTACH;FMTTYPE=image/jpeg:https://doubleedgetheatre.org/wp-content/uploads/2023/10/Community-Day.jpeg
END:VEVENT
BEGIN:VEVENT
DTSTART;VALUE=DATE:20220420
DTEND;VALUE=DATE:20220425
DTSTAMP:20260425T214222
CREATED:20210816T192109Z
LAST-MODIFIED:20220321T155655Z
UID:4689-1650412800-1650844799@doubleedgetheatre.org
SUMMARY:A DOUBLE EDGE THEATRE / MAGDALENA INTERNATIONAL FESTIVAL
DESCRIPTION:A DOUBLE EDGE THEATRE / MAGDALENA INTERNATIONAL FESTIVAL\n20 April 2022 to 24 April 2022 \nThese five days will include performances from worldwide women\, non-binary\, and trans artists\, as well as a symposia. Performances will include: No Doctor for the Dead by Geddy Aniksdal\, Daughter by Jill Greenhalgh\, Antigonx by Shey Rivera\, Specter of Sunlight// by Ebony Noelle Golden\, The Garden by Open Flame Theatre\, Lightning by DE Ensemble’s Design Director Jeremy Louise Eaton\, CONFESIONES & Rosa Cuchillo by Ana Correa/Grupo Cultural Yuyachkani\, El Desmontaje de Antígona by Teresa Ralli/Grupo Cultural Yuyachkani (Lima\, Peru)\, and pieces by emerging artists Tomantha Sylvester\, Lydia Lai and Ebony Webster. Symposia will include a discussion led by Anishinaabe Theater Exchange. \nFor more information about the entire RITES celebration click here.\nTo buy tickets click here.
URL:https://doubleedgetheatre.org/event/rites-a-magdalena-festival-at-double-edge-theatre/
LOCATION:The Farm\, 948 Conway Road\, Ashfield\, MA\, MA 01330\, United States
CATEGORIES:Programs
ATTACH;FMTTYPE=image/jpeg:https://doubleedgetheatre.org/wp-content/uploads/2021/08/rites.jpg
END:VEVENT
BEGIN:VEVENT
DTSTART;TZID=UTC:20210321T130000
DTEND;TZID=UTC:20210321T140000
DTSTAMP:20260425T214222
CREATED:20210302T190304Z
LAST-MODIFIED:20210507T175310Z
UID:3584-1616331600-1616335200@doubleedgetheatre.org
SUMMARY:The Living Presence of Our History: Part III
DESCRIPTION:Healing and Reparations Through the Land Back Movement:\nA Conversation on Indigenous Land Tenure\, Stewardship\, and Access\n \nSeries co-presented by Ohketeau\, A Space for Indigenous Culture\nand Double Edge Theatre\nThe forum is a continuation of conversations with Indigenous community members and allies regarding issues that we face today as Native peoples. The panel will delve into the importance of the Land Back movement. Dispossession\, colonization\, and lack of access to traditional lands have caused generations of harm\, and the recent awareness of repatriation through the Land Back movement gaining traction.\n\nEvent Moderated by Rhonda Anderson\, Ohketeau Co-Director\nOpening by Larry Spotted Crow Mann\, Ohketeau Co- Director\n\n\nPanelists include:\n\nRamona Peters\, Native Land Conservancy\nKristen Wyman\, Eastern Woodland Rematiration\nFred Freeman\, Nipmuc Cultural Preservation\nStephanie Morningstar\, Northeast Farmers of Color Landtrust\nDr. Jessica Dolan\, Ethnobotanist\, Saint Regis Mohawk Tribe Environment Division; Adjunct Faculty\, University of Guelph Department of Sociology and Anthropology.\nPeter Forbes\, First Light Learning Journey\n\n\nIn 2020\, Ohketeau\, a recently established Ashfield-based Center for Indigenous Culture\, and Double Edge Theatre co-produced The Living Presence of Our History on August 2 and September 13. On March 21 at 1 pm\, we will broadcast Part III on HowlRound TV\, Double Edge’s Facebook as well as Ohketeau’s Facebook page.  Prior broadcasts can be viewed here: PART I & PART II.\n\nWant to receive a reminder about the livestream? Sign up for free on Eventbrite.\n \n  \nDouble Edge is a proud recipient of a NEA Our Town Award for collaborative programming with the Ohketeau Cultural Council\, as well as for Residencies at the Farm and within our community. \n  \n\nOHKETEAU\nMISSION STATEMENT\nOhketeau allows for the opportunity for interdisciplinary education through cultural workshops\,  dance\, music\, art\, indoor and outdoor\, activities that allows participants the opportunity to fully express their talents. \nAt Ohketeau we believe teaching and learning is a relationship of reciprocity. The interaction with teacher and participant will be one that  recognizes each others abilities  while also exploring new ways to express our culture. \nIn addition\, our mission is to provide a safe\, rewarding and enriching experience for the Indigenous community of the region.
URL:https://doubleedgetheatre.org/event/the-living-presence-of-our-history-part-iii/
LOCATION:The Farm\, 948 Conway Road\, Ashfield\, MA\, MA 01330\, United States
CATEGORIES:Home,Programs
ATTACH;FMTTYPE=image/jpeg:https://doubleedgetheatre.org/wp-content/uploads/2021/02/118210543_10158007367403477_7754458433594100798_o.jpg
END:VEVENT
BEGIN:VEVENT
DTSTART;TZID=UTC:20210302T080000
DTEND;TZID=UTC:20210302T170000
DTSTAMP:20260425T214222
CREATED:20210302T201909Z
LAST-MODIFIED:20210507T201850Z
UID:3668-1614672000-1614704400@doubleedgetheatre.org
SUMMARY:Leonora Carrington and the Theatre: Susan Aberth and Double Edge
DESCRIPTION:On March 7th at 3 pm\, we will livestream a conversation between DE Artistic Director Stacy Klein and renowned Surrealist scholar Dr. Susan L. Aberth\, Edith C. Blum Professor of Art History and Visual Culture at Bard College with visual references of Carrington’s artwork and our performance of Leonora\, la maga y la maestra. Aberth’s books Leonora Carrington: Surrealism\, Alchemy and Art (Lund Humphries) and the recently published The Tarot of Leonora Carrington (Fulgur Press) are profoundly influential on DE’s work into the world of Leonora Carrington. \nThis event is a special treat to our audience in preparation for the broadcast and online world premiere streaming of Leonora\, la maga y la maestra on March 14 at 8pm for PEAK HD in partnership with ALL ARTS. You can watch the conversation live on HowlRound TV or on Double Edge’s Facebook page on March 7 at 3pm.
URL:https://doubleedgetheatre.org/event/leonora-carrington-and-the-theatre-susan-aberth-and-double-edge/
LOCATION:The Farm\, 948 Conway Road\, Ashfield\, MA\, MA 01330\, United States
CATEGORIES:Home,Programs
ATTACH;FMTTYPE=image/jpeg:https://doubleedgetheatre.org/wp-content/uploads/2021/03/50828985253_9fd35d6295_o-1-scaled.jpg
END:VEVENT
END:VCALENDAR