BEGIN:VCALENDAR
VERSION:2.0
PRODID:-//Welcome - ECPv6.15.20//NONSGML v1.0//EN
CALSCALE:GREGORIAN
METHOD:PUBLISH
X-ORIGINAL-URL:https://doubleedgetheatre.org
X-WR-CALDESC:Events for Welcome
REFRESH-INTERVAL;VALUE=DURATION:PT1H
X-Robots-Tag:noindex
X-PUBLISHED-TTL:PT1H
BEGIN:VTIMEZONE
TZID:UTC
BEGIN:STANDARD
TZOFFSETFROM:+0000
TZOFFSETTO:+0000
TZNAME:UTC
DTSTART:20190101T000000
END:STANDARD
END:VTIMEZONE
BEGIN:VTIMEZONE
TZID:America/Halifax
BEGIN:DAYLIGHT
TZOFFSETFROM:-0400
TZOFFSETTO:-0300
TZNAME:ADT
DTSTART:20220313T060000
END:DAYLIGHT
BEGIN:STANDARD
TZOFFSETFROM:-0300
TZOFFSETTO:-0400
TZNAME:AST
DTSTART:20221106T050000
END:STANDARD
BEGIN:DAYLIGHT
TZOFFSETFROM:-0400
TZOFFSETTO:-0300
TZNAME:ADT
DTSTART:20230312T060000
END:DAYLIGHT
BEGIN:STANDARD
TZOFFSETFROM:-0300
TZOFFSETTO:-0400
TZNAME:AST
DTSTART:20231105T050000
END:STANDARD
BEGIN:DAYLIGHT
TZOFFSETFROM:-0400
TZOFFSETTO:-0300
TZNAME:ADT
DTSTART:20240310T060000
END:DAYLIGHT
BEGIN:STANDARD
TZOFFSETFROM:-0300
TZOFFSETTO:-0400
TZNAME:AST
DTSTART:20241103T050000
END:STANDARD
BEGIN:DAYLIGHT
TZOFFSETFROM:-0400
TZOFFSETTO:-0300
TZNAME:ADT
DTSTART:20250309T060000
END:DAYLIGHT
BEGIN:STANDARD
TZOFFSETFROM:-0300
TZOFFSETTO:-0400
TZNAME:AST
DTSTART:20251102T050000
END:STANDARD
BEGIN:DAYLIGHT
TZOFFSETFROM:-0400
TZOFFSETTO:-0300
TZNAME:ADT
DTSTART:20260308T060000
END:DAYLIGHT
BEGIN:STANDARD
TZOFFSETFROM:-0300
TZOFFSETTO:-0400
TZNAME:AST
DTSTART:20261101T050000
END:STANDARD
END:VTIMEZONE
BEGIN:VTIMEZONE
TZID:America/Sao_Paulo
BEGIN:STANDARD
TZOFFSETFROM:-0300
TZOFFSETTO:-0300
TZNAME:-03
DTSTART:20230101T000000
END:STANDARD
END:VTIMEZONE
BEGIN:VTIMEZONE
TZID:America/Caracas
BEGIN:STANDARD
TZOFFSETFROM:-0400
TZOFFSETTO:-0400
TZNAME:-04
DTSTART:20230101T000000
END:STANDARD
END:VTIMEZONE
BEGIN:VEVENT
DTSTART;TZID=UTC:20260214T123000
DTEND;TZID=UTC:20260214T153000
DTSTAMP:20260425T232258
CREATED:20250929T153948Z
LAST-MODIFIED:20260107T172937Z
UID:7803-1771072200-1771083000@doubleedgetheatre.org
SUMMARY:Winter 2026 Open Training
DESCRIPTION:The Open Training will begin with of a tour of the Double Edge Farm Center followed by a two-hour training session led by the ensemble at the Ashfield Community Hall. There will be tea and coffee provided after the training session. This is an ideal opportunity to get a sense of what we do and how we work. All levels – even the simply curious– are welcome to attend. \nWe are currently offering an Open Training + Rainbow Exodus Ticket that comes with a ticket to Double Edge’s performance of Rainbow Exodus at 7:00 p.m. on the evening of the Open Training. \nMore information about Rainbow Exodus can be found here. \nBuy Tickets. \nIf all spots are filled and you would like to join the waitlist\, please email training@doubleedgetheatre.org.
URL:https://doubleedgetheatre.org/event/2026-winter-open-training/
LOCATION:The Farm\, 948 Conway Road\, Ashfield\, MA\, MA 01330\, United States
CATEGORIES:Open Training,Training
ATTACH;FMTTYPE=image/jpeg:https://doubleedgetheatre.org/wp-content/uploads/2025/09/open-training-26.jpg
END:VEVENT
BEGIN:VEVENT
DTSTART;VALUE=DATE:20251010
DTEND;VALUE=DATE:20251014
DTSTAMP:20260425T232258
CREATED:20250619T134026Z
LAST-MODIFIED:20250619T134026Z
UID:7581-1760054400-1760399999@doubleedgetheatre.org
SUMMARY:2025 Fall Intensive
DESCRIPTION:Our method is based on search\, not on form. We offer the adventure of both wildness and vulnerability. The unique\, holistic methodology employs the artist’s full potential – emotional\, imaginative\, physical\, vocal – to drive ensemble collaboration\, individual exploration\, and performance creation. \nWe’ll work daily from morning until night\, both in Double Edge’s indoor training spaces and outside in the fields\, hills\, pond and pastures of the Farm. Layering our physical training practice with music\, design\, dramaturgy\, large object work and individual and group research\, intensives are a full-body experience of our multidisciplinary creative process. \nApply today: https://forms.gle/yhixzqtHvXEvqJZK7
URL:https://doubleedgetheatre.org/event/2025-fall-intensive/
LOCATION:The Farm\, 948 Conway Road\, Ashfield\, MA\, MA 01330\, United States
CATEGORIES:Intensives,Training
ATTACH;FMTTYPE=image/jpeg:https://doubleedgetheatre.org/wp-content/uploads/2025/06/Double_edge_theatre_Intesive_training.jpg
END:VEVENT
BEGIN:VEVENT
DTSTART;VALUE=DATE:20250602
DTEND;VALUE=DATE:20250607
DTSTAMP:20260425T232258
CREATED:20250203T185323Z
LAST-MODIFIED:20250226T161901Z
UID:7360-1748822400-1749254399@doubleedgetheatre.org
SUMMARY:Summer Training Intensive
DESCRIPTION:Our method is based on search\, not on form. We offer an adventure with space for both wildness and vulnerability. The unique\, holistic methodology employs the artist’s full potential – emotional\, imaginative\, physical\, vocal – to drive ensemble collaboration\, individual exploration\, and performance creation. The training programs are led by the Ensemble\, and take place on the Farm. \n  \nFor more information visit https://doubleedgetheatre.org/training or contact Victor Figueroa at training@doubleedgetheatre.org. \n  \nTo apply\, please fill out this form.
URL:https://doubleedgetheatre.org/event/summer-training-intensive/
LOCATION:The Farm\, 948 Conway Road\, Ashfield\, MA\, MA 01330\, United States
CATEGORIES:Intensives
ATTACH;FMTTYPE=image/jpeg:https://doubleedgetheatre.org/wp-content/uploads/2025/02/Open-trainning.jpg
END:VEVENT
BEGIN:VEVENT
DTSTART;TZID=UTC:20250329T123000
DTEND;TZID=UTC:20250329T153000
DTSTAMP:20260425T232258
CREATED:20250122T170904Z
LAST-MODIFIED:20250205T203024Z
UID:7346-1743251400-1743262200@doubleedgetheatre.org
SUMMARY:Open Training
DESCRIPTION:Immerse yourself in a two- hour training session led by our Ensemble\, followed by a light meal\, plus a tour of our center. Whether you’re a seasoned performer or simply curious about our work\, everyone is welcome to attend! \n  \nFor more information\, contact Victor Figueroa at training@doubleedgetheatre.org \n  \nTo Register\, Visit: https://www.eventbrite.com/e/double-edge-theatre-open-training-tickets-1219646267819?aff=oddtdtcreator
URL:https://doubleedgetheatre.org/event/open-training-3/
LOCATION:MA
CATEGORIES:Open Training
ATTACH;FMTTYPE=image/jpeg:https://doubleedgetheatre.org/wp-content/uploads/2025/01/Open-Training.jpg
END:VEVENT
BEGIN:VEVENT
DTSTART;VALUE=DATE:20250103
DTEND;VALUE=DATE:20250109
DTSTAMP:20260425T232258
CREATED:20240912T150028Z
LAST-MODIFIED:20240912T150028Z
UID:7201-1735862400-1736380799@doubleedgetheatre.org
SUMMARY:2025 Winter Intensive
DESCRIPTION:Winter Intensive\nJanuary 3 – 8\, 2025 \nOur method is based on search\, not on form. We offer an adventure with space for both wildness and vulnerability. The unique\, holistic methodology employs the artist’s full potential – emotional\, imaginative\, physical\, vocal – to drive ensemble collaboration\, individual exploration\, and performance creation. The Winter Intensive training program is led by the Ensemble\, and take place on the Farm. \nApply here: https://forms.gle/9WYmJwu49PXfxyfK9
URL:https://doubleedgetheatre.org/event/2025-winter-intensive/
LOCATION:MA
CATEGORIES:Intensives,Training
ATTACH;FMTTYPE=image/jpeg:https://doubleedgetheatre.org/wp-content/uploads/2023/09/48381712926_8457db6f13_o.jpg
END:VEVENT
BEGIN:VEVENT
DTSTART;TZID=America/Halifax:20241122T190000
DTEND;TZID=America/Halifax:20241122T220000
DTSTAMP:20260425T232258
CREATED:20241113T202143Z
LAST-MODIFIED:20241113T202143Z
UID:7270-1732302000-1732312800@doubleedgetheatre.org
SUMMARY:ISHKODE at Lake Superior State University
DESCRIPTION:ISHKODE at Lake Superior State University\nNovember – 22\, 2025 \nIn November\, a few members of the DE Ensemble\, along with partners from the Ohketeau Cultural Center\, will travel to Lake Superior State University to continue developing a new performance titled Ishkode. Written\, created\, and performed by Tomantha Sylvester and directed and designed by Travis Coe\, Ishkode unearths (or perhaps re-earths) and retells the Seven Fire Prophecies of the Anishinaabek. The Prophets spoke of a time when humanity would face a critical decision: to choose the path of destruction and malice or the path of life and unity. All that was prophesied has come to pass\, and we are said to be living in the time of the last fire\, where a “New People” will emerge to lead us into harmony and balance. Set in a technologically advanced research facility\, we are taken on an unexpected journey through time by a whimsical\, ever-evolving human… and robot? \nWe look forward to sharing more about this new work after our residency this month!
URL:https://doubleedgetheatre.org/event/ishkode-at-lake-superior-state-university/
LOCATION:MA
CATEGORIES:Intensives,Training
ATTACH;FMTTYPE=image/jpeg:https://doubleedgetheatre.org/wp-content/uploads/2024/11/Ishikode.jpg
END:VEVENT
BEGIN:VEVENT
DTSTART;TZID=America/Sao_Paulo:20241013T100000
DTEND;TZID=America/Sao_Paulo:20241013T130000
DTSTAMP:20260425T232258
CREATED:20240510T171103Z
LAST-MODIFIED:20240926T203210Z
UID:6904-1728813600-1728824400@doubleedgetheatre.org
SUMMARY:Open Training
DESCRIPTION:Open Training at Double Edge\nOctober 13\n10am – 1pm\n\n\nImmerse yourself in a two-hour training session led by our ensemble\, followed by coffee and tea\, plus a tour of our center. Whether you’re a seasoned performer or simply curious about our work\, everyone is welcome to attend! \n\nFor more information\, contact Victor Figueroa at training@doubleedgetheatre.org \nBuy Tickets
URL:https://doubleedgetheatre.org/event/open-training-2/
LOCATION:The Farm\, 948 Conway Road\, Ashfield\, MA\, MA 01330\, United States
CATEGORIES:Home,Open Training,Training
ATTACH;FMTTYPE=image/jpeg:https://doubleedgetheatre.org/wp-content/uploads/2021/04/Training.jpg
END:VEVENT
BEGIN:VEVENT
DTSTART;VALUE=DATE:20240603
DTEND;VALUE=DATE:20240608
DTSTAMP:20260425T232258
CREATED:20240116T164229Z
LAST-MODIFIED:20240116T164229Z
UID:6613-1717372800-1717804799@doubleedgetheatre.org
SUMMARY:2024 Summer Intensive
DESCRIPTION:Summer Intensive\nJune 3-7\, 2024 \n\nOur method is based on search\, not on form. We offer the adventure of both wildness and vulnerability. The unique\, holistic methodology employs the artist’s full potential – emotional\, imaginative\, physical\, vocal – to drive ensemble collaboration\, individual exploration\, and performance creation. \n\n\nWe’ll work daily from morning until night\, both in Double Edge’s indoor training spaces and outside in the fields\, hills\, pond and pastures of the Farm. Layering our physical training practice with music\, design\, dramaturgy\, large object work and individual and group research\, intensives are a full-body experience of our multidisciplinary creative process. \n\nApply today: https://forms.gle/yhixzqtHvXEvqJZK7 \n\n 
URL:https://doubleedgetheatre.org/event/2024-summer-intensive/
LOCATION:The Farm\, 948 Conway Road\, Ashfield\, MA\, MA 01330\, United States
CATEGORIES:Intensives,Training
ATTACH;FMTTYPE=image/jpeg:https://doubleedgetheatre.org/wp-content/uploads/2021/05/fall.jpg
ORGANIZER;CN="Travis Coe":MAILTO:training@doubleedgetheatre.org
END:VEVENT
BEGIN:VEVENT
DTSTART;TZID=America/Sao_Paulo:20240509T180000
DTEND;TZID=America/Sao_Paulo:20240509T210000
DTSTAMP:20260425T232258
CREATED:20240315T160126Z
LAST-MODIFIED:20240315T160126Z
UID:6770-1715277600-1715288400@doubleedgetheatre.org
SUMMARY:Open Training
DESCRIPTION:Open Training Returns to Double Edge\nMay 9\n6pm – 9pm\n\n\nImmerse yourself in a two-hour training session led by our ensemble\, followed by coffee and tea\, plus an insightful tour of our center. Whether you’re a seasoned performer or simply curious about our work\, everyone is welcome to attend! \n\nFor more information\, contact Victor Figueroa at training@doubleedgetheatre.org\n\nTickets
URL:https://doubleedgetheatre.org/event/open-training/
LOCATION:The Farm\, 948 Conway Road\, Ashfield\, MA\, MA 01330\, United States
CATEGORIES:Home,Open Training,Training
ATTACH;FMTTYPE=image/jpeg:https://doubleedgetheatre.org/wp-content/uploads/2024/03/15543523457_6bfe15c15b_o-scaled.jpg
END:VEVENT
BEGIN:VEVENT
DTSTART;VALUE=DATE:20240103
DTEND;VALUE=DATE:20240108
DTSTAMP:20260425T232258
CREATED:20230919T002649Z
LAST-MODIFIED:20230929T204820Z
UID:6521-1704240000-1704671999@doubleedgetheatre.org
SUMMARY:2024 Winter Intensive
DESCRIPTION:Winter Intensive\nJanuary 3 – 7\, 2024 \nOur method is based on search\, not on form. We offer an adventure with space for both wildness and vulnerability. The unique\, holistic methodology employs the artist’s full potential – emotional\, imaginative\, physical\, vocal – to drive ensemble collaboration\, individual exploration\, and performance creation. The Winter Intensive training program is led by the Ensemble\, and take place on the Farm. \nApply here: https://forms.gle/9WYmJwu49PXfxyfK9
URL:https://doubleedgetheatre.org/event/2024-winter-intensive/
LOCATION:MA
CATEGORIES:Intensives,Training
ATTACH;FMTTYPE=image/jpeg:https://doubleedgetheatre.org/wp-content/uploads/2023/09/48381712926_8457db6f13_o.jpg
END:VEVENT
BEGIN:VEVENT
DTSTART;VALUE=DATE:20231006
DTEND;VALUE=DATE:20231010
DTSTAMP:20260425T232258
CREATED:20230213T034456Z
LAST-MODIFIED:20230919T000511Z
UID:5773-1696550400-1696895999@doubleedgetheatre.org
SUMMARY:2023 Fall Intensive
DESCRIPTION:Fall Intensive\nOctober 6 – 9\, 2023 \nOur method is based on search\, not on form. We offer an adventure with space for both wildness and vulnerability. The unique\, holistic methodology employs the artist’s full potential – emotional\, imaginative\, physical\, vocal – to drive ensemble collaboration\, individual exploration\, and performance creation. The Fall Intensive training program is led by the Ensemble\, and take place on the Farm. \n  \nEnrollment is now closed for the Fall Intensive. Please check back as applications for our Winter Intensive will open soon.
URL:https://doubleedgetheatre.org/event/summer-intensive/
LOCATION:The Farm\, 948 Conway Road\, Ashfield\, MA\, MA 01330\, United States
CATEGORIES:Intensives,Training
ATTACH;FMTTYPE=image/jpeg:https://doubleedgetheatre.org/wp-content/uploads/2023/02/48382137857_c1fb3a9431_k.jpg
ORGANIZER;CN="Travis Coe":MAILTO:training@doubleedgetheatre.org
END:VEVENT
BEGIN:VEVENT
DTSTART;VALUE=DATE:20230317
DTEND;VALUE=DATE:20230321
DTSTAMP:20260425T232258
CREATED:20221211T121710Z
LAST-MODIFIED:20221211T121827Z
UID:5705-1679011200-1679356799@doubleedgetheatre.org
SUMMARY:2023 Spring Intensive
DESCRIPTION:Spring Intensive\nMarch 17-20\, 2023 \nOur method is based on search\, not on form. We offer an adventure with space for both wildness and vulnerability. The unique\, holistic methodology employs the artist’s full potential – emotional\, imaginative\, physical\, vocal – to drive ensemble collaboration\, individual exploration\, and performance creation. The Fall Intensive training program is led by the Ensemble\, and take place on the Farm. \nApply here: https://forms.gle/9WYmJwu49PXfxyfK9
URL:https://doubleedgetheatre.org/event/2023-spring-intensive/
LOCATION:The Farm\, 948 Conway Road\, Ashfield\, MA\, MA 01330\, United States
CATEGORIES:Intensives,Training
ATTACH;FMTTYPE=image/jpeg:https://doubleedgetheatre.org/wp-content/uploads/2022/08/48381889017_7c4d3bff10_o-1.jpg
END:VEVENT
BEGIN:VEVENT
DTSTART;VALUE=DATE:20230102
DTEND;VALUE=DATE:20230107
DTSTAMP:20260425T232258
CREATED:20220815T210333Z
LAST-MODIFIED:20220815T211016Z
UID:5536-1672617600-1673049599@doubleedgetheatre.org
SUMMARY:2023 Winter Intensive
DESCRIPTION:Winter Intensive\nJanuary 2 – 6\, 2023 \nOur method is based on search\, not on form. We offer an adventure with space for both wildness and vulnerability. The unique\, holistic methodology employs the artist’s full potential – emotional\, imaginative\, physical\, vocal – to drive ensemble collaboration\, individual exploration\, and performance creation. The Fall Intensive training program is led by the Ensemble\, and take place on the Farm. \nApply here: https://forms.gle/9WYmJwu49PXfxyfK9
URL:https://doubleedgetheatre.org/event/2023-winter-intensive/
LOCATION:The Farm\, 948 Conway Road\, Ashfield\, MA\, MA 01330\, United States
CATEGORIES:Intensives,Training
ATTACH;FMTTYPE=image/jpeg:https://doubleedgetheatre.org/wp-content/uploads/2022/08/31897052480_d32f95f9d7_o.jpg
END:VEVENT
BEGIN:VEVENT
DTSTART;VALUE=DATE:20221007
DTEND;VALUE=DATE:20221011
DTSTAMP:20260425T232258
CREATED:20220815T210016Z
LAST-MODIFIED:20220815T211050Z
UID:5533-1665100800-1665446399@doubleedgetheatre.org
SUMMARY:2022 Fall Intensive
DESCRIPTION:Fall Intensive\nOctober 7-10\, 2022 \nOur method is based on search\, not on form. We offer an adventure with space for both wildness and vulnerability. The unique\, holistic methodology employs the artist’s full potential – emotional\, imaginative\, physical\, vocal – to drive ensemble collaboration\, individual exploration\, and performance creation. The Fall Intensive training program is led by the Ensemble\, and take place on the Farm. \nApply here: https://forms.gle/9WYmJwu49PXfxyfK9
URL:https://doubleedgetheatre.org/event/2022-fall-intensive/
LOCATION:The Farm\, 948 Conway Road\, Ashfield\, MA\, MA 01330\, United States
CATEGORIES:Intensives,Training
ATTACH;FMTTYPE=image/jpeg:https://doubleedgetheatre.org/wp-content/uploads/2022/08/48381889017_7c4d3bff10_o.jpg
END:VEVENT
BEGIN:VEVENT
DTSTART;VALUE=DATE:20220609
DTEND;VALUE=DATE:20220613
DTSTAMP:20260425T232258
CREATED:20220207T164114Z
LAST-MODIFIED:20220207T165402Z
UID:5145-1654732800-1655078399@doubleedgetheatre.org
SUMMARY:2022 Summer Intensive
DESCRIPTION:TRAIN WITH US DURING OUR 40TH ANNIVERSARY YEAR! \n\nSummer Intensive\nJune 9-12\, 2022\n\nOur method is based on search\, not on form. We offer the adventure of both wildness and vulnerability. The unique\, holistic methodology employs the artist’s full potential – emotional\, imaginative\, physical\, vocal – to drive ensemble collaboration\, individual exploration\, and performance creation. \n\n\nWe’ll work daily from morning until night\, both in Double Edge’s indoor training spaces and outside in the fields\, hills\, pond and pastures of the Farm. Layering our physical training practice with music\, design\, dramaturgy\, large object work and individual and group research\, intensives are a full-body experience of our multidisciplinary creative process. \n\n\nDuring this special intensive\, you will have the opportunity to see the outdoor performance by Jupiter Performance Studio and interact with that group. \n\n\nThe intensives are open to participants of all levels of experience and are ideal for pushing the boundaries of your physicality\, creativity\, and imagination! \n\n\nApply today: https://forms.gle/yhixzqtHvXEvqJZK7 \n\nApplication Deadline: April 29\, 2022\nProgram Interviews will happen between May 4-6\, 2022\nTo learn more and apply\, visit our website at\nhttps://doubleedgetheatre.org/training/intensives and/or contact Travis Coe attraining@doubleedgetheatre.org
URL:https://doubleedgetheatre.org/event/2022-summer-intensive/
LOCATION:The Farm\, 948 Conway Road\, Ashfield\, MA\, MA 01330\, United States
CATEGORIES:Intensives,Training
ATTACH;FMTTYPE=image/jpeg:https://doubleedgetheatre.org/wp-content/uploads/2021/05/fall.jpg
END:VEVENT
BEGIN:VEVENT
DTSTART;VALUE=DATE:20211008
DTEND;VALUE=DATE:20211012
DTSTAMP:20260425T232258
CREATED:20210606T123118Z
LAST-MODIFIED:20210728T194159Z
UID:4479-1633651200-1633996799@doubleedgetheatre.org
SUMMARY:Fall Intensive
DESCRIPTION:This annual training program layers rigorous physical group training with individual exploration\, and includes work with the DE Ensemble focusing on design\, dramaturgy\, the voice\, and work with objects and flying. \nLimited spots available. Early enrollment strongly suggested \nMore information >> \nApply Today \n 
URL:https://doubleedgetheatre.org/event/fall-intensive/
LOCATION:The Farm\, 948 Conway Road\, Ashfield\, MA\, MA 01330\, United States
CATEGORIES:Intensives,Training
ATTACH;FMTTYPE=image/jpeg:https://doubleedgetheatre.org/wp-content/uploads/2021/06/IMG_0547-Kim-Chin-Gibbons.jpg
END:VEVENT
BEGIN:VEVENT
DTSTART;VALUE=DATE:20210105
DTEND;VALUE=DATE:20210108
DTSTAMP:20260425T232258
CREATED:20201006T123549Z
LAST-MODIFIED:20210210T211238Z
UID:2868-1609804800-1610063999@doubleedgetheatre.org
SUMMARY:Winter Intensive Session 2
DESCRIPTION:  \nJanuary 5 – 7 \nThis annual training program (offered in two- three day sessions this year) layers rigorous physical group training with individual exploration\, and includes work with the DE Ensemble focusing on design\, dramaturgy\, the voice\, and work with objects and flying. \nLimited spots available. Early enrollment strongly suggested.\nMore information >>
URL:https://doubleedgetheatre.org/event/winter-intensive-session-2/
LOCATION:MA
CATEGORIES:Home,Intensives,Training
END:VEVENT
BEGIN:VEVENT
DTSTART;VALUE=DATE:20210101
DTEND;VALUE=DATE:20210104
DTSTAMP:20260425T232258
CREATED:20201006T123401Z
LAST-MODIFIED:20210210T211117Z
UID:2866-1609459200-1609718399@doubleedgetheatre.org
SUMMARY:Winter Intensive Session 1
DESCRIPTION:  \nJanuary 1 – 3 \nThis annual training program (offered in two- three day sessions this year) layers rigorous physical group training with individual exploration\, and includes work with the DE Ensemble focusing on design\, dramaturgy\, the voice\, and work with objects and flying. \nLimited spots available. Early enrollment strongly suggested.\nMore information >>
URL:https://doubleedgetheatre.org/event/winter-intensive-session-1/
LOCATION:MA
CATEGORIES:Home,Intensives,Training
ATTACH;FMTTYPE=image/jpeg:https://doubleedgetheatre.org/wp-content/uploads/2020/10/winter-intensive-1.jpg
END:VEVENT
BEGIN:VEVENT
DTSTART;TZID=UTC:20200906T000000
DTEND;TZID=UTC:20201125T000000
DTSTAMP:20260425T232258
CREATED:20200626T210347Z
LAST-MODIFIED:20210507T201400Z
UID:2402-1599350400-1606262400@doubleedgetheatre.org
SUMMARY:Fall Immersion
DESCRIPTION:Double Edge’s Artist Immersion program is for anyone looking for an in-depth experience of our training as the springboard for developing their own creative path of artistic inquiry and work creation. During a three-month residence at Double Edge’s rural Farm center\, participants identify their research and develop the first stages of original material. The program fosters an intimate and experiential connection to the larger fabric of the ensemble through work on the farm\, gatherings with guest artists\, rehearsal observation\, and project participation based on the current work of the company. \n 
URL:https://doubleedgetheatre.org/event/fall-immersion/
LOCATION:The Farm\, 948 Conway Road\, Ashfield\, MA\, MA 01330\, United States
CATEGORIES:Fall Immersion,Home,Training
ATTACH;FMTTYPE=image/jpeg:https://doubleedgetheatre.org/wp-content/uploads/2020/08/davidweiland6.jpg
ORGANIZER;CN="Travis Coe":MAILTO:training@doubleedgetheatre.org
END:VEVENT
END:VCALENDAR