BEGIN:VCALENDAR
VERSION:2.0
PRODID:-//Welcome - ECPv6.15.20//NONSGML v1.0//EN
CALSCALE:GREGORIAN
METHOD:PUBLISH
X-ORIGINAL-URL:https://doubleedgetheatre.org
X-WR-CALDESC:Events for Welcome
REFRESH-INTERVAL;VALUE=DURATION:PT1H
X-Robots-Tag:noindex
X-PUBLISHED-TTL:PT1H
BEGIN:VTIMEZONE
TZID:UTC
BEGIN:STANDARD
TZOFFSETFROM:+0000
TZOFFSETTO:+0000
TZNAME:UTC
DTSTART:20190101T000000
END:STANDARD
END:VTIMEZONE
BEGIN:VEVENT
DTSTART;VALUE=DATE:20230102
DTEND;VALUE=DATE:20230107
DTSTAMP:20260425T232915
CREATED:20220815T210333Z
LAST-MODIFIED:20220815T211016Z
UID:5536-1672617600-1673049599@doubleedgetheatre.org
SUMMARY:2023 Winter Intensive
DESCRIPTION:Winter Intensive\nJanuary 2 – 6\, 2023 \nOur method is based on search\, not on form. We offer an adventure with space for both wildness and vulnerability. The unique\, holistic methodology employs the artist’s full potential – emotional\, imaginative\, physical\, vocal – to drive ensemble collaboration\, individual exploration\, and performance creation. The Fall Intensive training program is led by the Ensemble\, and take place on the Farm. \nApply here: https://forms.gle/9WYmJwu49PXfxyfK9
URL:https://doubleedgetheatre.org/event/2023-winter-intensive/
LOCATION:The Farm\, 948 Conway Road\, Ashfield\, MA\, MA 01330\, United States
CATEGORIES:Intensives,Training
ATTACH;FMTTYPE=image/jpeg:https://doubleedgetheatre.org/wp-content/uploads/2022/08/31897052480_d32f95f9d7_o.jpg
END:VEVENT
BEGIN:VEVENT
DTSTART;VALUE=DATE:20221007
DTEND;VALUE=DATE:20221011
DTSTAMP:20260425T232915
CREATED:20220815T210016Z
LAST-MODIFIED:20220815T211050Z
UID:5533-1665100800-1665446399@doubleedgetheatre.org
SUMMARY:2022 Fall Intensive
DESCRIPTION:Fall Intensive\nOctober 7-10\, 2022 \nOur method is based on search\, not on form. We offer an adventure with space for both wildness and vulnerability. The unique\, holistic methodology employs the artist’s full potential – emotional\, imaginative\, physical\, vocal – to drive ensemble collaboration\, individual exploration\, and performance creation. The Fall Intensive training program is led by the Ensemble\, and take place on the Farm. \nApply here: https://forms.gle/9WYmJwu49PXfxyfK9
URL:https://doubleedgetheatre.org/event/2022-fall-intensive/
LOCATION:The Farm\, 948 Conway Road\, Ashfield\, MA\, MA 01330\, United States
CATEGORIES:Intensives,Training
ATTACH;FMTTYPE=image/jpeg:https://doubleedgetheatre.org/wp-content/uploads/2022/08/48381889017_7c4d3bff10_o.jpg
END:VEVENT
BEGIN:VEVENT
DTSTART;VALUE=DATE:20220609
DTEND;VALUE=DATE:20220613
DTSTAMP:20260425T232915
CREATED:20220207T164114Z
LAST-MODIFIED:20220207T165402Z
UID:5145-1654732800-1655078399@doubleedgetheatre.org
SUMMARY:2022 Summer Intensive
DESCRIPTION:TRAIN WITH US DURING OUR 40TH ANNIVERSARY YEAR! \n\nSummer Intensive\nJune 9-12\, 2022\n\nOur method is based on search\, not on form. We offer the adventure of both wildness and vulnerability. The unique\, holistic methodology employs the artist’s full potential – emotional\, imaginative\, physical\, vocal – to drive ensemble collaboration\, individual exploration\, and performance creation. \n\n\nWe’ll work daily from morning until night\, both in Double Edge’s indoor training spaces and outside in the fields\, hills\, pond and pastures of the Farm. Layering our physical training practice with music\, design\, dramaturgy\, large object work and individual and group research\, intensives are a full-body experience of our multidisciplinary creative process. \n\n\nDuring this special intensive\, you will have the opportunity to see the outdoor performance by Jupiter Performance Studio and interact with that group. \n\n\nThe intensives are open to participants of all levels of experience and are ideal for pushing the boundaries of your physicality\, creativity\, and imagination! \n\n\nApply today: https://forms.gle/yhixzqtHvXEvqJZK7 \n\nApplication Deadline: April 29\, 2022\nProgram Interviews will happen between May 4-6\, 2022\nTo learn more and apply\, visit our website at\nhttps://doubleedgetheatre.org/training/intensives and/or contact Travis Coe attraining@doubleedgetheatre.org
URL:https://doubleedgetheatre.org/event/2022-summer-intensive/
LOCATION:The Farm\, 948 Conway Road\, Ashfield\, MA\, MA 01330\, United States
CATEGORIES:Intensives,Training
ATTACH;FMTTYPE=image/jpeg:https://doubleedgetheatre.org/wp-content/uploads/2021/05/fall.jpg
END:VEVENT
BEGIN:VEVENT
DTSTART;VALUE=DATE:20211008
DTEND;VALUE=DATE:20211012
DTSTAMP:20260425T232915
CREATED:20210606T123118Z
LAST-MODIFIED:20210728T194159Z
UID:4479-1633651200-1633996799@doubleedgetheatre.org
SUMMARY:Fall Intensive
DESCRIPTION:This annual training program layers rigorous physical group training with individual exploration\, and includes work with the DE Ensemble focusing on design\, dramaturgy\, the voice\, and work with objects and flying. \nLimited spots available. Early enrollment strongly suggested \nMore information >> \nApply Today \n 
URL:https://doubleedgetheatre.org/event/fall-intensive/
LOCATION:The Farm\, 948 Conway Road\, Ashfield\, MA\, MA 01330\, United States
CATEGORIES:Intensives,Training
ATTACH;FMTTYPE=image/jpeg:https://doubleedgetheatre.org/wp-content/uploads/2021/06/IMG_0547-Kim-Chin-Gibbons.jpg
END:VEVENT
BEGIN:VEVENT
DTSTART;VALUE=DATE:20210105
DTEND;VALUE=DATE:20210108
DTSTAMP:20260425T232915
CREATED:20201006T123549Z
LAST-MODIFIED:20210210T211238Z
UID:2868-1609804800-1610063999@doubleedgetheatre.org
SUMMARY:Winter Intensive Session 2
DESCRIPTION:  \nJanuary 5 – 7 \nThis annual training program (offered in two- three day sessions this year) layers rigorous physical group training with individual exploration\, and includes work with the DE Ensemble focusing on design\, dramaturgy\, the voice\, and work with objects and flying. \nLimited spots available. Early enrollment strongly suggested.\nMore information >>
URL:https://doubleedgetheatre.org/event/winter-intensive-session-2/
LOCATION:MA
CATEGORIES:Home,Intensives,Training
END:VEVENT
BEGIN:VEVENT
DTSTART;VALUE=DATE:20210101
DTEND;VALUE=DATE:20210104
DTSTAMP:20260425T232915
CREATED:20201006T123401Z
LAST-MODIFIED:20210210T211117Z
UID:2866-1609459200-1609718399@doubleedgetheatre.org
SUMMARY:Winter Intensive Session 1
DESCRIPTION:  \nJanuary 1 – 3 \nThis annual training program (offered in two- three day sessions this year) layers rigorous physical group training with individual exploration\, and includes work with the DE Ensemble focusing on design\, dramaturgy\, the voice\, and work with objects and flying. \nLimited spots available. Early enrollment strongly suggested.\nMore information >>
URL:https://doubleedgetheatre.org/event/winter-intensive-session-1/
LOCATION:MA
CATEGORIES:Home,Intensives,Training
ATTACH;FMTTYPE=image/jpeg:https://doubleedgetheatre.org/wp-content/uploads/2020/10/winter-intensive-1.jpg
END:VEVENT
BEGIN:VEVENT
DTSTART;TZID=UTC:20200906T000000
DTEND;TZID=UTC:20201125T000000
DTSTAMP:20260425T232915
CREATED:20200626T210347Z
LAST-MODIFIED:20210507T201400Z
UID:2402-1599350400-1606262400@doubleedgetheatre.org
SUMMARY:Fall Immersion
DESCRIPTION:Double Edge’s Artist Immersion program is for anyone looking for an in-depth experience of our training as the springboard for developing their own creative path of artistic inquiry and work creation. During a three-month residence at Double Edge’s rural Farm center\, participants identify their research and develop the first stages of original material. The program fosters an intimate and experiential connection to the larger fabric of the ensemble through work on the farm\, gatherings with guest artists\, rehearsal observation\, and project participation based on the current work of the company. \n 
URL:https://doubleedgetheatre.org/event/fall-immersion/
LOCATION:The Farm\, 948 Conway Road\, Ashfield\, MA\, MA 01330\, United States
CATEGORIES:Fall Immersion,Home,Training
ATTACH;FMTTYPE=image/jpeg:https://doubleedgetheatre.org/wp-content/uploads/2020/08/davidweiland6.jpg
ORGANIZER;CN="Travis Coe":MAILTO:training@doubleedgetheatre.org
END:VEVENT
END:VCALENDAR